BEGIN:VCALENDAR
VERSION:2.0
PRODID:-//Eventin//Event Calendar//EN
CALSCALE:GREGORIAN
METHOD:PUBLISH
BEGIN:VEVENT
UID:3f6ff30814f26c91fa3c036b5ac7eabb@youthalivensw.com.au
SUMMARY:YARR 2026 - Upper Hunter
DESCRIPTION:Upper Hunter\, gather your crew and get ready for an incredible
  night unified under the name of Jesus. Expect giveaways\, Hangtime favouri
 tes\, thrift shop treasures\, free food\, powerful praise and worship\, and
  a whole lot more.\nSpeaker: Nick Diomis\nClick here to read the Youth Aliv
 e NSW - Event Conditions of Entry
LOCATION:Metford Baptist Church\, 83-85 Chelmsford Dr\, Metford
DTSTAMP:20260423T090806Z
DTSTART:20260612T080000Z
DTEND:20260612T111500Z
END:VEVENT
END:VCALENDAR
