BEGIN:VCALENDAR
VERSION:2.0
PRODID:-//Eventin//Event Calendar//EN
CALSCALE:GREGORIAN
METHOD:PUBLISH
BEGIN:VEVENT
UID:f24520b74114bfadc505aad70877df5d@youthalivensw.com.au
SUMMARY:YARR 2026 - Western Sydney
DESCRIPTION:Penrith\, Hawkesbury\, and the Mountains are coming together in
  unity for one huge regional gathering. Start with the outdoor festival fro
 m 6:30pm packed with food and fun\, before heading into the rally for prais
 e\, powerful testimonies\, and gospel preaching. This is a free night desig
 ned to bring the whole region together.\n					Festival: 6:30pm				\n					Ra
 lly Doors: 7:10pm\n				\n					Speaker: Sam Green\n				\n					Click here to 
 read the Youth Alive NSW - Event Conditions of Entry
LOCATION:Imagine Nations Church\, 1 Simeon Rd\, Orchard Hills
DTSTAMP:20260421T082402Z
DTSTART:20260612T083000Z
DTEND:20260612T111500Z
END:VEVENT
END:VCALENDAR
