BEGIN:VCALENDAR
VERSION:2.0
PRODID:-//Eventin//Event Calendar//EN
CALSCALE:GREGORIAN
METHOD:PUBLISH
BEGIN:VEVENT
UID:9ad76a2ac6834c35b05c45e2de5e4aa5@youthalivensw.com.au
SUMMARY:YARR 2026 - Blacktown City
DESCRIPTION:Blacktown\, this is your all-youth gathering. Young people from
  across the city will come together to worship\, lift high the name of Jesu
 s\, and believe for our city. Featuring Kingdom Frontliners and Jamie Zhu\,
  this will be a landmark night of faith\, unity\, and encounter.\nSpeaker: 
 Damien Seddon\nClick here to read the Youth Alive NSW - Event Conditions of
  Entry
LOCATION:Bowman Hall\, 35 Campbell St\, Blacktown
DTSTAMP:20260423T081409Z
DTSTART:20260605T083000Z
DTEND:20260605T110000Z
END:VEVENT
END:VCALENDAR
