BEGIN:VCALENDAR
VERSION:2.0
PRODID:-//Eventin//Event Calendar//EN
CALSCALE:GREGORIAN
METHOD:PUBLISH
BEGIN:VEVENT
UID:4e23aaf3b62f804ca3c761eb38f1188f@youthalivensw.com.au
SUMMARY:YARR 2026 - Illawarra
DESCRIPTION:Illawarra Rally is bringing the heat with dinner\, a drink\, DJ
  vibes\, inflatables\, basketball\, games\, a thrift shop\, ice cream truck
 \, and even an Adidas Samba giveaway. Come for the fun\, stay for the power
 ful praise and worship\, connection\, and life-changing message.\n					Spea
 ker: Danielle Kruithoff 				\n					Click here to read the Youth Alive NSW -
  Event Conditions of Entry
LOCATION:Shellharbour Community Church\, 500 Shellharbour Rd\, Shellharbour
DTSTAMP:20260421T083311Z
DTSTART:20260529T083000Z
DTEND:20260529T113000Z
END:VEVENT
END:VCALENDAR
