BEGIN:VCALENDAR
VERSION:2.0
PRODID:-//Eventin//Event Calendar//EN
CALSCALE:GREGORIAN
METHOD:PUBLISH
BEGIN:VEVENT
UID:01aca8fdc941f3265c39a2d19c63f7cf@youthalivensw.com.au
SUMMARY:YARR 2026 - South-West Sydney
DESCRIPTION:South-West Sydney is bringing the festival vibes this year. Joi
 n youth ministries from across the region for an outdoor festival packed wi
 th BBQ\, basketball\, op shop finds\, praise and worship\, and a powerful w
 ord. This is all about unity\, fun\, and lifting the name of Jesus together
 .\n					Speaker: Josh Henry				\n					Click here to read the Youth Alive NS
 W - Event Conditions of Entry
LOCATION:Inspire Church\, 1a Spire Ct\, Hoxton Park
DTSTAMP:20260421T082922Z
DTSTART:20260529T083000Z
DTEND:20260529T113000Z
END:VEVENT
END:VCALENDAR
