BEGIN:VCALENDAR
VERSION:2.0
PRODID:-//Eventin//Event Calendar//EN
CALSCALE:GREGORIAN
METHOD:PUBLISH
BEGIN:VEVENT
UID:6bdadc557bc1c0d5deae205dbbd89388@youthalivensw.com.au
SUMMARY:YARR 2026 - Shoalhaven
DESCRIPTION:Shoalhaven\, your Regional Rally is here. This is your moment t
 o gather with young people and youth ministries from right across the regio
 n for a night of unity\, connection\, and powerful encounter. Expect an atm
 osphere full of energy\, fun\, praise and worship\, and a message that will
  build faith and ignite passion for what God is doing across your region. B
 ring your friends\, come expectant\, and be part of something bigger than y
 our local youth ministry.		\n					Speaker: TBC				\n					Click here to read
  the Youth Alive NSW - Event Conditions of Entry
LOCATION:Celebration Church\, 8 Bellevue St\, South Nowra
DTSTAMP:20260423T082734Z
DTSTART:20260522T083000Z
DTEND:20260522T113000Z
END:VEVENT
END:VCALENDAR
