BEGIN:VCALENDAR
VERSION:2.0
PRODID:-//Eventin//Event Calendar//EN
CALSCALE:GREGORIAN
METHOD:PUBLISH
BEGIN:VEVENT
UID:23974763792093cf2da00c8dd42fe5f2@youthalivensw.com.au
SUMMARY:YARR 2026 - South-East Sydney
DESCRIPTION:South-East Sydney Rally is shaping up to be one of the biggest 
 nights of the season. Expect dinner\, DJ sets\, thrift shop finds\, basketb
 all\, giveaways\, incredible praise and worship\, and a powerful word that 
 will set faith on fire. Bring your friends and come expectant.		\n					Spea
 ker: Jack Elmondorp				\n					Click here to read the Youth Alive NSW - Even
 t Conditions of Entry
LOCATION:Horizon Church\, 7 Stapleton Avenue\, Sutherland
DTSTAMP:20260421T082358Z
DTSTART:20260605T083000Z
DTEND:20260605T110000Z
END:VEVENT
END:VCALENDAR
