BEGIN:VCALENDAR
VERSION:2.0
PRODID:-//Eventin//Event Calendar//EN
CALSCALE:GREGORIAN
METHOD:PUBLISH
BEGIN:VEVENT
UID:aec6727e9a68baa2bcf416979f27fd97@youthalivensw.com.au
SUMMARY:YARR 2026 - Riverina
DESCRIPTION:Riverina\, this is going to be massive. We’re bringing the wh
 ole region together for one huge night of unity\, connection\, and celebrat
 ion. Grab dinner from the café\, jump into epic games\, score giveaways\, 
 and be part of an unforgettable praise party led by our Youth Alive United 
 band. This is the rally your whole youth ministry needs to be at.\nSpeaker:
  TBC\nClick here to read the Youth Alive NSW - Event Conditions of Entry
LOCATION:Together Church\, 555 Kooringal Road\, Wagga Wagga NSW 2650
DTSTAMP:20260421T082118Z
DTSTART:20260529T083000Z
DTEND:20260529T113000Z
END:VEVENT
END:VCALENDAR
