BEGIN:VCALENDAR
VERSION:2.0
PRODID:-//Eventin//Event Calendar//EN
CALSCALE:GREGORIAN
METHOD:PUBLISH
BEGIN:VEVENT
UID:18437be6584dcdf4ed6757f3c613d5df@youthalivensw.com.au
SUMMARY:YARR 2026 - North Sydney
DESCRIPTION:North Sydney Regional Rally is completely free and packed with 
 everything you need for an incredible night out — great music\, good food
 \, giveaways\, and young people from across the city gathering together in 
 unity. Bring your friends and be part of a night full of energy\, connectio
 n\, and a powerful encounter with God.		\n					Speaker: TBC				\n					Click
  here to read the Youth Alive NSW - Event Conditions of Entry
LOCATION:Lifesource Christian Church\, 382 Eastern Valley Way\, Chatswood 
DTSTAMP:20260421T083349Z
DTSTART:20260522T090000Z
DTEND:20260522T110000Z
END:VEVENT
END:VCALENDAR
