BEGIN:VCALENDAR
VERSION:2.0
PRODID:-//Eventin//Event Calendar//EN
CALSCALE:GREGORIAN
METHOD:PUBLISH
BEGIN:VEVENT
UID:6b5ed484adba7798d08d446461987afb@youthalivensw.com.au
SUMMARY:YARR 2026 - Lower Hunter
DESCRIPTION:Lower Hunter\, this is your night to gather in unity under the 
 name of Jesus. Come ready for all the Hangtime favourites\, epic giveaways\
 , a thrift shop\, free food\, and powerful praise and worship with young pe
 ople from right across the region. It’s going to be one unforgettable nig
 ht filled with fun\, faith\, and community.\n					Speaker: TBC				\n					Cl
 ick here to read the Youth Alive NSW - Event Conditions of Entry
LOCATION:Macquarie Life Church\, 127 Macquarie Rd\, Macquarie Hills 
DTSTAMP:20260421T082802Z
DTSTART:20260522T080000Z
DTEND:20260522T113000Z
END:VEVENT
END:VCALENDAR
