BEGIN:VCALENDAR
VERSION:2.0
PRODID:-//Eventin//Event Calendar//EN
CALSCALE:GREGORIAN
METHOD:PUBLISH
BEGIN:VEVENT
UID:b45b603b978feec2e967ea6a1357ad40@youthalivensw.com.au
SUMMARY:YARR 2026 - North Coast
DESCRIPTION:Get ready\, North Coast — Regional Rally is landing at LifeHo
 use Church for a huge night of connection\, fun\, and powerful moments toge
 ther. Expect live music\, a skate comp\, gaming zone\, jumping castles\, gl
 itter station\, barber\, photo booth\, free giveaways\, and all the energy 
 of the Youth Alive regional band leading us in praise and worship. This is 
 the place to bring your whole youth crew and make memories together.\nSpeak
 er: Josh Henry\nClick here to read the Youth Alive NSW - Event Conditions o
 f Entry
LOCATION:LifeHouse Church\, 167 Orlando St\, Coffs Harbour 
DTSTAMP:20260423T090201Z
DTSTART:20260521T200000Z
DTEND:20260522T103000Z
END:VEVENT
END:VCALENDAR
