BEGIN:VCALENDAR
VERSION:2.0
PRODID:-//Eventin//Event Calendar//EN
CALSCALE:GREGORIAN
METHOD:PUBLISH
BEGIN:VEVENT
UID:71728a8225c28bc2d7ef70d002e3e610@youthalivensw.com.au
SUMMARY:YARR 2026 - Central Sydney
DESCRIPTION:Central Sydney Rally is bringing together young people from acr
 oss the city for an unforgettable night of faith\, unity\, and encounter. C
 ome expectant for praise and worship\, community\, fun\, and a powerful mes
 sage that will stir your faith.\n					Speaker: Nick Diomis				\n					Click 
 here to read the Youth Alive NSW - Event Conditions of Entry
LOCATION:Revive Church\, 93 Audley St\, Petersham
DTSTAMP:20260419T130211Z
DTSTART:20260619T083000Z
DTEND:20260619T110000Z
END:VEVENT
END:VCALENDAR
