BEGIN:VCALENDAR
VERSION:2.0
PRODID:-//Eventin//Event Calendar//EN
CALSCALE:GREGORIAN
METHOD:PUBLISH
BEGIN:VEVENT
UID:b022263801c24f5b473a3d21e5ede94f@youthalivensw.com.au
SUMMARY:YARR 2026 - Hills Shire
DESCRIPTION:Festival vibes meet powerful encounter at Hills Shire Rally. Wi
 th food trucks\, an acai truck\, basketball\, op shop\, praise and worship\
 , and a life-giving word\, this is the perfect night to gather with youth f
 rom across the Hills and believe for more.		\n					Speaker: Isaiah Simmons	
 			\n					Click here to read the Youth Alive NSW - Event Conditions of Entr
 y
LOCATION:Hillsong Hills\, 1/9 Solent Cct\, Norwest 
DTSTAMP:20260421T082803Z
DTSTART:20260612T080000Z
DTEND:20260612T110000Z
END:VEVENT
END:VCALENDAR
