BEGIN:VCALENDAR
VERSION:2.0
PRODID:-//Eventin//Event Calendar//EN
CALSCALE:GREGORIAN
METHOD:PUBLISH
BEGIN:VEVENT
UID:a8b30d8b72c2be8dc2e1a55859152b54@youthalivensw.com.au
SUMMARY:YARR 2026 - ACT
DESCRIPTION:ACT Rally is coming\, and it’s going to be worth the wait. Ex
 pect dinner included\, exclusive merch giveaways\, connection with youth mi
 nistries from across the territory\, and a powerful night together in God
 ’s presence. Lock it in now and stay tuned for the venue drop.\n					Spea
 ker: TBC				\n					Click here to read the Youth Alive NSW - Event Condition
 s of Entry
LOCATION:TBC
DTSTAMP:20260421T083028Z
DTSTART:20260612T080000Z
DTEND:20260612T110000Z
END:VEVENT
END:VCALENDAR
