BEGIN:VCALENDAR
VERSION:2.0
PRODID:-//Eventin//Event Calendar//EN
CALSCALE:GREGORIAN
METHOD:PUBLISH
BEGIN:VEVENT
UID:5a052eec66e02518366a7a0fc84e64e7@youthalivensw.com.au
SUMMARY:YARR 2026 - Central Coast (Charmhaven)
DESCRIPTION:Central Coast (Charmhaven)\, Regional Rally is coming your way.
  Gather with young people from across the Central Coast for a powerful nigh
 t of worship\, fun\, connection\, and a word that will strengthen your fait
 h.		\n					Speaker: Matt Wilesmith 				\n					Click here to read the Youth 
 Alive NSW - Event Conditions of Entry
LOCATION:HopeUC Charmhaven\, 164 Pacific Hwy\, Charmhaven 
DTSTAMP:20260421T082402Z
DTSTART:20260626T080000Z
DTEND:20260626T110000Z
END:VEVENT
END:VCALENDAR
