BEGIN:VCALENDAR
VERSION:2.0
PRODID:-//Eventin//Event Calendar//EN
CALSCALE:GREGORIAN
METHOD:PUBLISH
BEGIN:VEVENT
UID:869c4a468b584f8e0aabdca1e7a8c81d@youthalivensw.com.au
SUMMARY:YARR 2026 - Central Coast (Erina)
DESCRIPTION:Erina Central Coast (Erina)\, Regional Rally is coming your way
 . Gather with young people from across the Central Coast for a powerful nig
 ht of worship\, fun\, connection\, and a word that will strengthen your fai
 th.\n					Speaker: Aywan Suleiman				\n					Click here to read the Youth Al
 ive NSW - Event Conditions of Entry
LOCATION:iSee Church Erina\, 19 Chetwynd Rd\, Erina Central Coast
DTSTAMP:20260421T082358Z
DTSTART:20260626T080000Z
DTEND:20260626T110000Z
END:VEVENT
END:VCALENDAR
