BEGIN:VCALENDAR
VERSION:2.0
PRODID:-//Squarespace Inc/Squarespace 6//v6//EN
BEGIN:VEVENT
UID:5ddc82b88f4efe6a742c1eb4@squarespace.com
DTSTAMP:20191126T014921Z
DTSTART:20191204T073000Z
DTEND:20191204T093000Z
SUMMARY:Ya Academy Sydney Info Night
GEO:38.930186;-120.004891
LOCATION:93 Audley Street\, Petersham\, NSW\, 2049\, Australia
END:VEVENT
END:VCALENDAR
