BEGIN:VCALENDAR
VERSION:2.0
PRODID:-//Squarespace Inc/Squarespace 6//v6//EN
BEGIN:VEVENT
UID:5d82e23c4110f1752afbddcf@squarespace.com
DTSTAMP:20190919T022003Z
DTSTART:20191014T013000Z
DTEND:20191017T023000Z
SUMMARY:ACC NSW State Conference
GEO:-31.427028;152.89535
LOCATION:1 Bay Street Port Macquarie\, NSW 2444
END:VEVENT
END:VCALENDAR
