BEGIN:VCALENDAR
VERSION:2.0
PRODID:-//Squarespace Inc/Squarespace 6//v6//EN
BEGIN:VEVENT
UID:5d0b81e06221960001839cbb@squarespace.com
DTSTAMP:20190709T000251Z
DTSTART:20190816T083000Z
DTEND:20190816T110000Z
SUMMARY:United We Stand
END:VEVENT
END:VCALENDAR
