BEGIN:VCALENDAR
VERSION:2.0
PRODID:-//Squarespace Inc/Squarespace 6//v6//EN
BEGIN:VEVENT
UID:5d0b81e06221960001839cbc@squarespace.com
DTSTAMP:20200218T221003Z
DTSTART:20200218T073000Z
DTEND:20200219T100000Z
SUMMARY:YOUTH ALIVE RETREAT
END:VEVENT
END:VCALENDAR
