BEGIN:VCALENDAR
VERSION:2.0
PRODID:-//Squarespace Inc/Squarespace 6//v6//EN
BEGIN:VEVENT
UID:5d0b81e06221960001839cbd@squarespace.com
DTSTAMP:20200217T020637Z
DTSTART:20200420T090000Z
DTEND:20200423T100000Z
SUMMARY:Youth Alive Tour
END:VEVENT
END:VCALENDAR
